BEGIN:VCALENDAR
VERSION:2.0
PRODID:-//Ferrante Winery &amp; Ristorante - ECPv6.15.18//NONSGML v1.0//EN
CALSCALE:GREGORIAN
METHOD:PUBLISH
X-WR-CALNAME:Ferrante Winery &amp; Ristorante
X-ORIGINAL-URL:https://www.ferrantewinery.com
X-WR-CALDESC:Events for Ferrante Winery &amp; Ristorante
REFRESH-INTERVAL;VALUE=DURATION:PT1H
X-Robots-Tag:noindex
X-PUBLISHED-TTL:PT1H
BEGIN:VTIMEZONE
TZID:America/New_York
BEGIN:DAYLIGHT
TZOFFSETFROM:-0500
TZOFFSETTO:-0400
TZNAME:EDT
DTSTART:20220313T070000
END:DAYLIGHT
BEGIN:STANDARD
TZOFFSETFROM:-0400
TZOFFSETTO:-0500
TZNAME:EST
DTSTART:20221106T060000
END:STANDARD
BEGIN:DAYLIGHT
TZOFFSETFROM:-0500
TZOFFSETTO:-0400
TZNAME:EDT
DTSTART:20230312T070000
END:DAYLIGHT
BEGIN:STANDARD
TZOFFSETFROM:-0400
TZOFFSETTO:-0500
TZNAME:EST
DTSTART:20231105T060000
END:STANDARD
BEGIN:DAYLIGHT
TZOFFSETFROM:-0500
TZOFFSETTO:-0400
TZNAME:EDT
DTSTART:20240310T070000
END:DAYLIGHT
BEGIN:STANDARD
TZOFFSETFROM:-0400
TZOFFSETTO:-0500
TZNAME:EST
DTSTART:20241103T060000
END:STANDARD
END:VTIMEZONE
BEGIN:VEVENT
DTSTART;TZID=America/New_York:20230212T130000
DTEND;TZID=America/New_York:20230212T180000
DTSTAMP:20260424T070205
CREATED:20230105T190813Z
LAST-MODIFIED:20230112T170722Z
UID:10002176-1676206800-1676224800@www.ferrantewinery.com
SUMMARY:Valentine's Dining Experience
DESCRIPTION:Available February 10th – 12th & 14th – During Lunch & Dinner Hours \nCHERRY CHAMPAGNE INSALATA \nSpring Mix\, Arugula\, Toasted Almonds\, Feta\, Strawberries\, Cinnamon Sugar Brie Stuffed Croutons\, Cherry Almond Champagne Vinaigrette \nAdd Chicken  4 \nAdd Salmon  6 \nPairs with Sparkling Moscato  \n  \nENTREES \nBROWN BUTTER FILET  \nFilet Mignon\, Brown Butter Sauce\, Rosemary\, Roasted Garlic Butter Hasselback Potato\, Tri Colored Carrots\, Tobacco Onions \nPairs with Grand River Valley Cabernet Franc  \n  \nPESCE SPINACHI \nFresh Spinach Fettuchinni\, Pan Seared Scallops\, Mussels\, Shrimp\, Blistered Grape Tomatoes\, Asparagus\, Champagne Crème \nPairs with Sparkling Moscato  \n  \nCATCH OF THE DAY  \nSALMONÉ alla DIJON \nPuff Pastry Wrapped Salmon Filet \nDijon Truffle Crème\, Roasted Wild Mushrooms Caramelized Onions\, Sautéed Spinach\, Roasted Potatoes \nPairs with Cask 1022  \n  \nDOLCE \nCHOCOLATE CHERRY CRÈME BRULEE \nHomemade Chocolate Cherry Crème Brulee\, Dark Cherry Compote \nPairs with Dolcetto  \n 
URL:https://www.ferrantewinery.com/event/valentines-dining-experience-3/2023-02-12/
LOCATION:Ferrante Winery & Ristorante\, 5585 State Route 307\, Geneva\, OH\, 44041\, United States
ATTACH;FMTTYPE=image/jpeg:https://www.ferrantewinery.com/wp-content/uploads/2019/12/IMG-5825-scaled.jpg
GEO:41.7594843;-80.9536641
X-APPLE-STRUCTURED-LOCATION;VALUE=URI;X-ADDRESS=Ferrante Winery & Ristorante 5585 State Route 307 Geneva OH 44041 United States;X-APPLE-RADIUS=500;X-TITLE=5585 State Route 307:geo:-80.9536641,41.7594843
END:VEVENT
END:VCALENDAR