BEGIN:VCALENDAR
VERSION:2.0
PRODID:-//Ferrante Winery &amp; Ristorante - ECPv6.15.18//NONSGML v1.0//EN
CALSCALE:GREGORIAN
METHOD:PUBLISH
X-WR-CALNAME:Ferrante Winery &amp; Ristorante
X-ORIGINAL-URL:https://www.ferrantewinery.com
X-WR-CALDESC:Events for Ferrante Winery &amp; Ristorante
REFRESH-INTERVAL;VALUE=DURATION:PT1H
X-Robots-Tag:noindex
X-PUBLISHED-TTL:PT1H
BEGIN:VTIMEZONE
TZID:America/New_York
BEGIN:DAYLIGHT
TZOFFSETFROM:-0500
TZOFFSETTO:-0400
TZNAME:EDT
DTSTART:20250309T070000
END:DAYLIGHT
BEGIN:STANDARD
TZOFFSETFROM:-0400
TZOFFSETTO:-0500
TZNAME:EST
DTSTART:20251102T060000
END:STANDARD
BEGIN:DAYLIGHT
TZOFFSETFROM:-0500
TZOFFSETTO:-0400
TZNAME:EDT
DTSTART:20260308T070000
END:DAYLIGHT
BEGIN:STANDARD
TZOFFSETFROM:-0400
TZOFFSETTO:-0500
TZNAME:EST
DTSTART:20261101T060000
END:STANDARD
BEGIN:DAYLIGHT
TZOFFSETFROM:-0500
TZOFFSETTO:-0400
TZNAME:EDT
DTSTART:20270314T070000
END:DAYLIGHT
BEGIN:STANDARD
TZOFFSETFROM:-0400
TZOFFSETTO:-0500
TZNAME:EST
DTSTART:20271107T060000
END:STANDARD
END:VTIMEZONE
BEGIN:VEVENT
DTSTART;TZID=America/New_York:20260729T180000
DTEND;TZID=America/New_York:20260729T200000
DTSTAMP:20260421T074422
CREATED:20260417T152126Z
LAST-MODIFIED:20260417T152126Z
UID:10005679-1785348000-1785355200@www.ferrantewinery.com
SUMMARY:Music BINGO
DESCRIPTION:Join us for this fun event of Music BINGO!  FREE to play!!! \n 
URL:https://www.ferrantewinery.com/event/music-bingo/2026-07-29/
LOCATION:Ferrante Winery & Ristorante\, 5585 State Route 307\, Geneva\, OH\, 44041\, United States
ATTACH;FMTTYPE=image/jpeg:https://www.ferrantewinery.com/wp-content/uploads/2026/04/IMG_7129-1-e1776438961319.jpeg
GEO:41.7594843;-80.9536641
X-APPLE-STRUCTURED-LOCATION;VALUE=URI;X-ADDRESS=Ferrante Winery & Ristorante 5585 State Route 307 Geneva OH 44041 United States;X-APPLE-RADIUS=500;X-TITLE=5585 State Route 307:geo:-80.9536641,41.7594843
END:VEVENT
BEGIN:VEVENT
DTSTART;TZID=America/New_York:20260726T140000
DTEND;TZID=America/New_York:20260726T173000
DTSTAMP:20260421T074422
CREATED:20260206T173614Z
LAST-MODIFIED:20260206T173614Z
UID:10005542-1785074400-1785087000@www.ferrantewinery.com
SUMMARY:Brad Pethtel
DESCRIPTION:Live Music in our Tasting Room!
URL:https://www.ferrantewinery.com/event/brad-pethtel-2/2026-07-26/
LOCATION:Ferrante Winery & Ristorante\, 5585 State Route 307\, Geneva\, OH\, 44041\, United States
CATEGORIES:Live Music
GEO:41.7594843;-80.9536641
X-APPLE-STRUCTURED-LOCATION;VALUE=URI;X-ADDRESS=Ferrante Winery & Ristorante 5585 State Route 307 Geneva OH 44041 United States;X-APPLE-RADIUS=500;X-TITLE=5585 State Route 307:geo:-80.9536641,41.7594843
END:VEVENT
BEGIN:VEVENT
DTSTART;TZID=America/New_York:20260725T173000
DTEND;TZID=America/New_York:20260725T210000
DTSTAMP:20260421T074422
CREATED:20260303T195758Z
LAST-MODIFIED:20260303T195758Z
UID:10005632-1785000600-1785013200@www.ferrantewinery.com
SUMMARY:Porch Rockers
DESCRIPTION:Live Music
URL:https://www.ferrantewinery.com/event/porch-rockers-12/2026-07-25/
LOCATION:Ferrante Winery & Ristorante\, 5585 State Route 307\, Geneva\, OH\, 44041\, United States
CATEGORIES:Live Music
GEO:41.7594843;-80.9536641
X-APPLE-STRUCTURED-LOCATION;VALUE=URI;X-ADDRESS=Ferrante Winery & Ristorante 5585 State Route 307 Geneva OH 44041 United States;X-APPLE-RADIUS=500;X-TITLE=5585 State Route 307:geo:-80.9536641,41.7594843
END:VEVENT
BEGIN:VEVENT
DTSTART;TZID=America/New_York:20260725T130000
DTEND;TZID=America/New_York:20260725T163000
DTSTAMP:20260421T074422
CREATED:20260303T201611Z
LAST-MODIFIED:20260303T201611Z
UID:10005652-1784984400-1784997000@www.ferrantewinery.com
SUMMARY:Mark Morris
DESCRIPTION:Live Entertainment
URL:https://www.ferrantewinery.com/event/mark-morris-8/2026-07-25/
LOCATION:Ferrante Winery & Ristorante\, 5585 State Route 307\, Geneva\, OH\, 44041\, United States
CATEGORIES:Live Music
GEO:41.7594843;-80.9536641
X-APPLE-STRUCTURED-LOCATION;VALUE=URI;X-ADDRESS=Ferrante Winery & Ristorante 5585 State Route 307 Geneva OH 44041 United States;X-APPLE-RADIUS=500;X-TITLE=5585 State Route 307:geo:-80.9536641,41.7594843
END:VEVENT
BEGIN:VEVENT
DTSTART;TZID=America/New_York:20260724T173000
DTEND;TZID=America/New_York:20260724T210000
DTSTAMP:20260421T074422
CREATED:20260206T182720Z
LAST-MODIFIED:20260206T185217Z
UID:10005579-1784914200-1784926800@www.ferrantewinery.com
SUMMARY:Twisted Vibes
DESCRIPTION:Live Music
URL:https://www.ferrantewinery.com/event/twisted-vibes-4/2026-07-24/
LOCATION:Ferrante Winery & Ristorante\, 5585 State Route 307\, Geneva\, OH\, 44041\, United States
CATEGORIES:Live Music
GEO:41.7594843;-80.9536641
X-APPLE-STRUCTURED-LOCATION;VALUE=URI;X-ADDRESS=Ferrante Winery & Ristorante 5585 State Route 307 Geneva OH 44041 United States;X-APPLE-RADIUS=500;X-TITLE=5585 State Route 307:geo:-80.9536641,41.7594843
END:VEVENT
BEGIN:VEVENT
DTSTART;TZID=America/New_York:20260722T180000
DTEND;TZID=America/New_York:20260722T200000
DTSTAMP:20260421T074422
CREATED:20260417T152126Z
LAST-MODIFIED:20260417T152126Z
UID:10005678-1784743200-1784750400@www.ferrantewinery.com
SUMMARY:Music BINGO
DESCRIPTION:Join us for this fun event of Music BINGO!  FREE to play!!! \n 
URL:https://www.ferrantewinery.com/event/music-bingo/2026-07-22/
LOCATION:Ferrante Winery & Ristorante\, 5585 State Route 307\, Geneva\, OH\, 44041\, United States
ATTACH;FMTTYPE=image/jpeg:https://www.ferrantewinery.com/wp-content/uploads/2026/04/IMG_7129-1-e1776438961319.jpeg
GEO:41.7594843;-80.9536641
X-APPLE-STRUCTURED-LOCATION;VALUE=URI;X-ADDRESS=Ferrante Winery & Ristorante 5585 State Route 307 Geneva OH 44041 United States;X-APPLE-RADIUS=500;X-TITLE=5585 State Route 307:geo:-80.9536641,41.7594843
END:VEVENT
BEGIN:VEVENT
DTSTART;TZID=America/New_York:20260719T140000
DTEND;TZID=America/New_York:20260719T173000
DTSTAMP:20260421T074422
CREATED:20260303T202116Z
LAST-MODIFIED:20260303T202116Z
UID:10005656-1784469600-1784482200@www.ferrantewinery.com
SUMMARY:Matt Carson Duo
DESCRIPTION:Live Entertainment
URL:https://www.ferrantewinery.com/event/matt-carson-duo-2/2026-07-19/
LOCATION:Ferrante Winery & Ristorante\, 5585 State Route 307\, Geneva\, OH\, 44041\, United States
CATEGORIES:Live Music
GEO:41.7594843;-80.9536641
X-APPLE-STRUCTURED-LOCATION;VALUE=URI;X-ADDRESS=Ferrante Winery & Ristorante 5585 State Route 307 Geneva OH 44041 United States;X-APPLE-RADIUS=500;X-TITLE=5585 State Route 307:geo:-80.9536641,41.7594843
END:VEVENT
BEGIN:VEVENT
DTSTART;TZID=America/New_York:20260718T173000
DTEND;TZID=America/New_York:20260718T210000
DTSTAMP:20260421T074422
CREATED:20260303T200558Z
LAST-MODIFIED:20260303T200558Z
UID:10005640-1784395800-1784408400@www.ferrantewinery.com
SUMMARY:3 Kings & Queen
DESCRIPTION:Live Music
URL:https://www.ferrantewinery.com/event/3-kings-queen-2/2026-07-18/
LOCATION:Ferrante Winery & Ristorante\, 5585 State Route 307\, Geneva\, OH\, 44041\, United States
CATEGORIES:Live Music
GEO:41.7594843;-80.9536641
X-APPLE-STRUCTURED-LOCATION;VALUE=URI;X-ADDRESS=Ferrante Winery & Ristorante 5585 State Route 307 Geneva OH 44041 United States;X-APPLE-RADIUS=500;X-TITLE=5585 State Route 307:geo:-80.9536641,41.7594843
END:VEVENT
BEGIN:VEVENT
DTSTART;TZID=America/New_York:20260718T130000
DTEND;TZID=America/New_York:20260718T163000
DTSTAMP:20260421T074422
CREATED:20260206T191617Z
LAST-MODIFIED:20260206T191617Z
UID:10005584-1784379600-1784392200@www.ferrantewinery.com
SUMMARY:Rob Lundi
DESCRIPTION:Live Music!
URL:https://www.ferrantewinery.com/event/rob-lundi-5/2026-07-18/
LOCATION:Ferrante Winery & Ristorante\, 5585 State Route 307\, Geneva\, OH\, 44041\, United States
CATEGORIES:Live Music
GEO:41.7594843;-80.9536641
X-APPLE-STRUCTURED-LOCATION;VALUE=URI;X-ADDRESS=Ferrante Winery & Ristorante 5585 State Route 307 Geneva OH 44041 United States;X-APPLE-RADIUS=500;X-TITLE=5585 State Route 307:geo:-80.9536641,41.7594843
END:VEVENT
BEGIN:VEVENT
DTSTART;TZID=America/New_York:20260717T173000
DTEND;TZID=America/New_York:20260717T210000
DTSTAMP:20260421T074422
CREATED:20260303T202913Z
LAST-MODIFIED:20260303T202913Z
UID:10005658-1784309400-1784322000@www.ferrantewinery.com
SUMMARY:Eric Andrews
DESCRIPTION:Live Music
URL:https://www.ferrantewinery.com/event/eric-andrews-6/
LOCATION:Ferrante Winery & Ristorante\, 5585 State Route 307\, Geneva\, OH\, 44041\, United States
CATEGORIES:Live Music
GEO:41.7594843;-80.9536641
X-APPLE-STRUCTURED-LOCATION;VALUE=URI;X-ADDRESS=Ferrante Winery & Ristorante 5585 State Route 307 Geneva OH 44041 United States;X-APPLE-RADIUS=500;X-TITLE=5585 State Route 307:geo:-80.9536641,41.7594843
END:VEVENT
BEGIN:VEVENT
DTSTART;TZID=America/New_York:20260715T180000
DTEND;TZID=America/New_York:20260715T200000
DTSTAMP:20260421T074422
CREATED:20260417T152126Z
LAST-MODIFIED:20260417T152126Z
UID:10005677-1784138400-1784145600@www.ferrantewinery.com
SUMMARY:Music BINGO
DESCRIPTION:Join us for this fun event of Music BINGO!  FREE to play!!! \n 
URL:https://www.ferrantewinery.com/event/music-bingo/2026-07-15/
LOCATION:Ferrante Winery & Ristorante\, 5585 State Route 307\, Geneva\, OH\, 44041\, United States
ATTACH;FMTTYPE=image/jpeg:https://www.ferrantewinery.com/wp-content/uploads/2026/04/IMG_7129-1-e1776438961319.jpeg
GEO:41.7594843;-80.9536641
X-APPLE-STRUCTURED-LOCATION;VALUE=URI;X-ADDRESS=Ferrante Winery & Ristorante 5585 State Route 307 Geneva OH 44041 United States;X-APPLE-RADIUS=500;X-TITLE=5585 State Route 307:geo:-80.9536641,41.7594843
END:VEVENT
BEGIN:VEVENT
DTSTART;TZID=America/New_York:20260712T140000
DTEND;TZID=America/New_York:20260712T173000
DTSTAMP:20260421T074422
CREATED:20260206T175123Z
LAST-MODIFIED:20260206T175123Z
UID:10005562-1783864800-1783877400@www.ferrantewinery.com
SUMMARY:Huffman Acoustic
DESCRIPTION:Live Music!
URL:https://www.ferrantewinery.com/event/huffman-acoustic/2026-07-12/
LOCATION:Ferrante Winery & Ristorante\, 5585 State Route 307\, Geneva\, OH\, 44041\, United States
CATEGORIES:Live Music
GEO:41.7594843;-80.9536641
X-APPLE-STRUCTURED-LOCATION;VALUE=URI;X-ADDRESS=Ferrante Winery & Ristorante 5585 State Route 307 Geneva OH 44041 United States;X-APPLE-RADIUS=500;X-TITLE=5585 State Route 307:geo:-80.9536641,41.7594843
END:VEVENT
BEGIN:VEVENT
DTSTART;TZID=America/New_York:20260711T173000
DTEND;TZID=America/New_York:20260711T210000
DTSTAMP:20260421T074422
CREATED:20260303T200858Z
LAST-MODIFIED:20260303T200858Z
UID:10005644-1783791000-1783803600@www.ferrantewinery.com
SUMMARY:Back Spin
DESCRIPTION:Live Music
URL:https://www.ferrantewinery.com/event/back-spin-8/2026-07-11/
LOCATION:Ferrante Winery & Ristorante\, 5585 State Route 307\, Geneva\, OH\, 44041\, United States
CATEGORIES:Live Music
GEO:41.7594843;-80.9536641
X-APPLE-STRUCTURED-LOCATION;VALUE=URI;X-ADDRESS=Ferrante Winery & Ristorante 5585 State Route 307 Geneva OH 44041 United States;X-APPLE-RADIUS=500;X-TITLE=5585 State Route 307:geo:-80.9536641,41.7594843
END:VEVENT
BEGIN:VEVENT
DTSTART;TZID=America/New_York:20260711T130000
DTEND;TZID=America/New_York:20260711T163000
DTSTAMP:20260421T074422
CREATED:20260303T193941Z
LAST-MODIFIED:20260303T193941Z
UID:10005616-1783774800-1783787400@www.ferrantewinery.com
SUMMARY:Dennis Ford
DESCRIPTION:Live Entertainment!
URL:https://www.ferrantewinery.com/event/dennis-ford-20/2026-07-11/
LOCATION:Ferrante Winery & Ristorante\, 5585 State Route 307\, Geneva\, OH\, 44041\, United States
CATEGORIES:Live Music
GEO:41.7594843;-80.9536641
X-APPLE-STRUCTURED-LOCATION;VALUE=URI;X-ADDRESS=Ferrante Winery & Ristorante 5585 State Route 307 Geneva OH 44041 United States;X-APPLE-RADIUS=500;X-TITLE=5585 State Route 307:geo:-80.9536641,41.7594843
END:VEVENT
BEGIN:VEVENT
DTSTART;TZID=America/New_York:20260710T173000
DTEND;TZID=America/New_York:20260710T210000
DTSTAMP:20260421T074422
CREATED:20260206T180316Z
LAST-MODIFIED:20260206T180316Z
UID:10005570-1783704600-1783717200@www.ferrantewinery.com
SUMMARY:Uncharted Course
DESCRIPTION:Live Music
URL:https://www.ferrantewinery.com/event/uncharted-course-23/2026-07-10/
LOCATION:Ferrante Winery & Ristorante\, 5585 State Route 307\, Geneva\, OH\, 44041\, United States
CATEGORIES:Live Music
GEO:41.7594843;-80.9536641
X-APPLE-STRUCTURED-LOCATION;VALUE=URI;X-ADDRESS=Ferrante Winery & Ristorante 5585 State Route 307 Geneva OH 44041 United States;X-APPLE-RADIUS=500;X-TITLE=5585 State Route 307:geo:-80.9536641,41.7594843
END:VEVENT
BEGIN:VEVENT
DTSTART;TZID=America/New_York:20260708T180000
DTEND;TZID=America/New_York:20260708T200000
DTSTAMP:20260421T074422
CREATED:20260417T152126Z
LAST-MODIFIED:20260417T152126Z
UID:10005676-1783533600-1783540800@www.ferrantewinery.com
SUMMARY:Music BINGO
DESCRIPTION:Join us for this fun event of Music BINGO!  FREE to play!!! \n 
URL:https://www.ferrantewinery.com/event/music-bingo/2026-07-08/
LOCATION:Ferrante Winery & Ristorante\, 5585 State Route 307\, Geneva\, OH\, 44041\, United States
ATTACH;FMTTYPE=image/jpeg:https://www.ferrantewinery.com/wp-content/uploads/2026/04/IMG_7129-1-e1776438961319.jpeg
GEO:41.7594843;-80.9536641
X-APPLE-STRUCTURED-LOCATION;VALUE=URI;X-ADDRESS=Ferrante Winery & Ristorante 5585 State Route 307 Geneva OH 44041 United States;X-APPLE-RADIUS=500;X-TITLE=5585 State Route 307:geo:-80.9536641,41.7594843
END:VEVENT
BEGIN:VEVENT
DTSTART;TZID=America/New_York:20260705T140000
DTEND;TZID=America/New_York:20260705T173000
DTSTAMP:20260421T074422
CREATED:20260303T195406Z
LAST-MODIFIED:20260303T195406Z
UID:10005625-1783260000-1783272600@www.ferrantewinery.com
SUMMARY:Nia
DESCRIPTION:Live Entertainment!
URL:https://www.ferrantewinery.com/event/nia-4/2026-07-05/
LOCATION:Ferrante Winery & Ristorante\, 5585 State Route 307\, Geneva\, OH\, 44041\, United States
CATEGORIES:Live Music
GEO:41.7594843;-80.9536641
X-APPLE-STRUCTURED-LOCATION;VALUE=URI;X-ADDRESS=Ferrante Winery & Ristorante 5585 State Route 307 Geneva OH 44041 United States;X-APPLE-RADIUS=500;X-TITLE=5585 State Route 307:geo:-80.9536641,41.7594843
END:VEVENT
BEGIN:VEVENT
DTSTART;TZID=America/New_York:20260704T173000
DTEND;TZID=America/New_York:20260704T210000
DTSTAMP:20260421T074422
CREATED:20260303T200103Z
LAST-MODIFIED:20260303T200103Z
UID:10005636-1783186200-1783198800@www.ferrantewinery.com
SUMMARY:Tri Tones Band
DESCRIPTION:Live Music
URL:https://www.ferrantewinery.com/event/tri-tones-band-4/2026-07-04/
LOCATION:Ferrante Winery & Ristorante\, 5585 State Route 307\, Geneva\, OH\, 44041\, United States
CATEGORIES:Live Music
GEO:41.7594843;-80.9536641
X-APPLE-STRUCTURED-LOCATION;VALUE=URI;X-ADDRESS=Ferrante Winery & Ristorante 5585 State Route 307 Geneva OH 44041 United States;X-APPLE-RADIUS=500;X-TITLE=5585 State Route 307:geo:-80.9536641,41.7594843
END:VEVENT
BEGIN:VEVENT
DTSTART;TZID=America/New_York:20260704T130000
DTEND;TZID=America/New_York:20260704T163000
DTSTAMP:20260421T074422
CREATED:20260206T174127Z
LAST-MODIFIED:20260206T174127Z
UID:10005550-1783170000-1783182600@www.ferrantewinery.com
SUMMARY:Jonathan Browning
DESCRIPTION:Live Music!
URL:https://www.ferrantewinery.com/event/jonathan-browning-10/2026-07-04/
LOCATION:Ferrante Winery & Ristorante\, 5585 State Route 307\, Geneva\, OH\, 44041\, United States
CATEGORIES:Live Music
GEO:41.7594843;-80.9536641
X-APPLE-STRUCTURED-LOCATION;VALUE=URI;X-ADDRESS=Ferrante Winery & Ristorante 5585 State Route 307 Geneva OH 44041 United States;X-APPLE-RADIUS=500;X-TITLE=5585 State Route 307:geo:-80.9536641,41.7594843
END:VEVENT
BEGIN:VEVENT
DTSTART;TZID=America/New_York:20260701T180000
DTEND;TZID=America/New_York:20260701T200000
DTSTAMP:20260421T074422
CREATED:20260417T152126Z
LAST-MODIFIED:20260417T152126Z
UID:10005675-1782928800-1782936000@www.ferrantewinery.com
SUMMARY:Music BINGO
DESCRIPTION:Join us for this fun event of Music BINGO!  FREE to play!!! \n 
URL:https://www.ferrantewinery.com/event/music-bingo/2026-07-01/
LOCATION:Ferrante Winery & Ristorante\, 5585 State Route 307\, Geneva\, OH\, 44041\, United States
ATTACH;FMTTYPE=image/jpeg:https://www.ferrantewinery.com/wp-content/uploads/2026/04/IMG_7129-1-e1776438961319.jpeg
GEO:41.7594843;-80.9536641
X-APPLE-STRUCTURED-LOCATION;VALUE=URI;X-ADDRESS=Ferrante Winery & Ristorante 5585 State Route 307 Geneva OH 44041 United States;X-APPLE-RADIUS=500;X-TITLE=5585 State Route 307:geo:-80.9536641,41.7594843
END:VEVENT
BEGIN:VEVENT
DTSTART;TZID=America/New_York:20260701T130000
DTEND;TZID=America/New_York:20260701T163000
DTSTAMP:20260421T074422
CREATED:20260206T191617Z
LAST-MODIFIED:20260206T191617Z
UID:10005583-1782910800-1782923400@www.ferrantewinery.com
SUMMARY:Rob Lundi
DESCRIPTION:Live Music!
URL:https://www.ferrantewinery.com/event/rob-lundi-5/2026-07-01/
LOCATION:Ferrante Winery & Ristorante\, 5585 State Route 307\, Geneva\, OH\, 44041\, United States
CATEGORIES:Live Music
GEO:41.7594843;-80.9536641
X-APPLE-STRUCTURED-LOCATION;VALUE=URI;X-ADDRESS=Ferrante Winery & Ristorante 5585 State Route 307 Geneva OH 44041 United States;X-APPLE-RADIUS=500;X-TITLE=5585 State Route 307:geo:-80.9536641,41.7594843
END:VEVENT
BEGIN:VEVENT
DTSTART;TZID=America/New_York:20260628T140000
DTEND;TZID=America/New_York:20260628T173000
DTSTAMP:20260421T074422
CREATED:20260303T201140Z
LAST-MODIFIED:20260303T201140Z
UID:10005648-1782655200-1782667800@www.ferrantewinery.com
SUMMARY:Bobby Potts Duo
DESCRIPTION:Live Entertainment
URL:https://www.ferrantewinery.com/event/bobby-potts-duo-2/2026-06-28/
LOCATION:Ferrante Winery & Ristorante\, 5585 State Route 307\, Geneva\, OH\, 44041\, United States
CATEGORIES:Live Music
GEO:41.7594843;-80.9536641
X-APPLE-STRUCTURED-LOCATION;VALUE=URI;X-ADDRESS=Ferrante Winery & Ristorante 5585 State Route 307 Geneva OH 44041 United States;X-APPLE-RADIUS=500;X-TITLE=5585 State Route 307:geo:-80.9536641,41.7594843
END:VEVENT
BEGIN:VEVENT
DTSTART;TZID=America/New_York:20260627T173000
DTEND;TZID=America/New_York:20260627T210000
DTSTAMP:20260421T074422
CREATED:20260303T195758Z
LAST-MODIFIED:20260303T195758Z
UID:10005631-1782581400-1782594000@www.ferrantewinery.com
SUMMARY:Porch Rockers
DESCRIPTION:Live Music
URL:https://www.ferrantewinery.com/event/porch-rockers-12/2026-06-27/
LOCATION:Ferrante Winery & Ristorante\, 5585 State Route 307\, Geneva\, OH\, 44041\, United States
CATEGORIES:Live Music
GEO:41.7594843;-80.9536641
X-APPLE-STRUCTURED-LOCATION;VALUE=URI;X-ADDRESS=Ferrante Winery & Ristorante 5585 State Route 307 Geneva OH 44041 United States;X-APPLE-RADIUS=500;X-TITLE=5585 State Route 307:geo:-80.9536641,41.7594843
END:VEVENT
BEGIN:VEVENT
DTSTART;TZID=America/New_York:20260627T130000
DTEND;TZID=America/New_York:20260627T163000
DTSTAMP:20260421T074422
CREATED:20260206T175123Z
LAST-MODIFIED:20260206T175123Z
UID:10005561-1782565200-1782577800@www.ferrantewinery.com
SUMMARY:Huffman Acoustic
DESCRIPTION:Live Music!
URL:https://www.ferrantewinery.com/event/huffman-acoustic/2026-06-27/
LOCATION:Ferrante Winery & Ristorante\, 5585 State Route 307\, Geneva\, OH\, 44041\, United States
CATEGORIES:Live Music
GEO:41.7594843;-80.9536641
X-APPLE-STRUCTURED-LOCATION;VALUE=URI;X-ADDRESS=Ferrante Winery & Ristorante 5585 State Route 307 Geneva OH 44041 United States;X-APPLE-RADIUS=500;X-TITLE=5585 State Route 307:geo:-80.9536641,41.7594843
END:VEVENT
BEGIN:VEVENT
DTSTART;TZID=America/New_York:20260626T173000
DTEND;TZID=America/New_York:20260626T210000
DTSTAMP:20260421T074422
CREATED:20260303T202116Z
LAST-MODIFIED:20260303T202116Z
UID:10005655-1782495000-1782507600@www.ferrantewinery.com
SUMMARY:Matt Carson Duo
DESCRIPTION:Live Entertainment
URL:https://www.ferrantewinery.com/event/matt-carson-duo-2/2026-06-26/
LOCATION:Ferrante Winery & Ristorante\, 5585 State Route 307\, Geneva\, OH\, 44041\, United States
CATEGORIES:Live Music
GEO:41.7594843;-80.9536641
X-APPLE-STRUCTURED-LOCATION;VALUE=URI;X-ADDRESS=Ferrante Winery & Ristorante 5585 State Route 307 Geneva OH 44041 United States;X-APPLE-RADIUS=500;X-TITLE=5585 State Route 307:geo:-80.9536641,41.7594843
END:VEVENT
BEGIN:VEVENT
DTSTART;TZID=America/New_York:20260624T180000
DTEND;TZID=America/New_York:20260624T200000
DTSTAMP:20260421T074422
CREATED:20260417T152126Z
LAST-MODIFIED:20260417T152126Z
UID:10005674-1782324000-1782331200@www.ferrantewinery.com
SUMMARY:Music BINGO
DESCRIPTION:Join us for this fun event of Music BINGO!  FREE to play!!! \n 
URL:https://www.ferrantewinery.com/event/music-bingo/2026-06-24/
LOCATION:Ferrante Winery & Ristorante\, 5585 State Route 307\, Geneva\, OH\, 44041\, United States
ATTACH;FMTTYPE=image/jpeg:https://www.ferrantewinery.com/wp-content/uploads/2026/04/IMG_7129-1-e1776438961319.jpeg
GEO:41.7594843;-80.9536641
X-APPLE-STRUCTURED-LOCATION;VALUE=URI;X-ADDRESS=Ferrante Winery & Ristorante 5585 State Route 307 Geneva OH 44041 United States;X-APPLE-RADIUS=500;X-TITLE=5585 State Route 307:geo:-80.9536641,41.7594843
END:VEVENT
BEGIN:VEVENT
DTSTART;TZID=America/New_York:20260620T173000
DTEND;TZID=America/New_York:20260620T210000
DTSTAMP:20260421T074422
CREATED:20260206T180316Z
LAST-MODIFIED:20260206T180316Z
UID:10005569-1781976600-1781989200@www.ferrantewinery.com
SUMMARY:Uncharted Course
DESCRIPTION:Live Music
URL:https://www.ferrantewinery.com/event/uncharted-course-23/2026-06-20/
LOCATION:Ferrante Winery & Ristorante\, 5585 State Route 307\, Geneva\, OH\, 44041\, United States
CATEGORIES:Live Music
GEO:41.7594843;-80.9536641
X-APPLE-STRUCTURED-LOCATION;VALUE=URI;X-ADDRESS=Ferrante Winery & Ristorante 5585 State Route 307 Geneva OH 44041 United States;X-APPLE-RADIUS=500;X-TITLE=5585 State Route 307:geo:-80.9536641,41.7594843
END:VEVENT
BEGIN:VEVENT
DTSTART;TZID=America/New_York:20260620T130000
DTEND;TZID=America/New_York:20260620T163000
DTSTAMP:20260421T074422
CREATED:20260303T201611Z
LAST-MODIFIED:20260303T201611Z
UID:10005651-1781960400-1781973000@www.ferrantewinery.com
SUMMARY:Mark Morris
DESCRIPTION:Live Entertainment
URL:https://www.ferrantewinery.com/event/mark-morris-8/2026-06-20/
LOCATION:Ferrante Winery & Ristorante\, 5585 State Route 307\, Geneva\, OH\, 44041\, United States
CATEGORIES:Live Music
GEO:41.7594843;-80.9536641
X-APPLE-STRUCTURED-LOCATION;VALUE=URI;X-ADDRESS=Ferrante Winery & Ristorante 5585 State Route 307 Geneva OH 44041 United States;X-APPLE-RADIUS=500;X-TITLE=5585 State Route 307:geo:-80.9536641,41.7594843
END:VEVENT
BEGIN:VEVENT
DTSTART;TZID=America/New_York:20260619T173000
DTEND;TZID=America/New_York:20260619T210000
DTSTAMP:20260421T074422
CREATED:20260206T182720Z
LAST-MODIFIED:20260206T185217Z
UID:10005578-1781890200-1781902800@www.ferrantewinery.com
SUMMARY:Twisted Vibes
DESCRIPTION:Live Music
URL:https://www.ferrantewinery.com/event/twisted-vibes-4/2026-06-19/
LOCATION:Ferrante Winery & Ristorante\, 5585 State Route 307\, Geneva\, OH\, 44041\, United States
CATEGORIES:Live Music
GEO:41.7594843;-80.9536641
X-APPLE-STRUCTURED-LOCATION;VALUE=URI;X-ADDRESS=Ferrante Winery & Ristorante 5585 State Route 307 Geneva OH 44041 United States;X-APPLE-RADIUS=500;X-TITLE=5585 State Route 307:geo:-80.9536641,41.7594843
END:VEVENT
BEGIN:VEVENT
DTSTART;TZID=America/New_York:20260617T180000
DTEND;TZID=America/New_York:20260617T200000
DTSTAMP:20260421T074422
CREATED:20260417T152126Z
LAST-MODIFIED:20260417T152126Z
UID:10005673-1781719200-1781726400@www.ferrantewinery.com
SUMMARY:Music BINGO
DESCRIPTION:Join us for this fun event of Music BINGO!  FREE to play!!! \n 
URL:https://www.ferrantewinery.com/event/music-bingo/2026-06-17/
LOCATION:Ferrante Winery & Ristorante\, 5585 State Route 307\, Geneva\, OH\, 44041\, United States
ATTACH;FMTTYPE=image/jpeg:https://www.ferrantewinery.com/wp-content/uploads/2026/04/IMG_7129-1-e1776438961319.jpeg
GEO:41.7594843;-80.9536641
X-APPLE-STRUCTURED-LOCATION;VALUE=URI;X-ADDRESS=Ferrante Winery & Ristorante 5585 State Route 307 Geneva OH 44041 United States;X-APPLE-RADIUS=500;X-TITLE=5585 State Route 307:geo:-80.9536641,41.7594843
END:VEVENT
END:VCALENDAR